BEGIN:VCALENDAR
VERSION:2.0
PRODID:-//Flip Orley - ECPv6.15.20//NONSGML v1.0//EN
CALSCALE:GREGORIAN
METHOD:PUBLISH
X-WR-CALNAME:Flip Orley
X-ORIGINAL-URL:https://www.fliporley.com
X-WR-CALDESC:Events for Flip Orley
REFRESH-INTERVAL;VALUE=DURATION:PT1H
X-Robots-Tag:noindex
X-PUBLISHED-TTL:PT1H
BEGIN:VTIMEZONE
TZID:America/New_York
BEGIN:DAYLIGHT
TZOFFSETFROM:-0500
TZOFFSETTO:-0400
TZNAME:EDT
DTSTART:20210314T070000
END:DAYLIGHT
BEGIN:STANDARD
TZOFFSETFROM:-0400
TZOFFSETTO:-0500
TZNAME:EST
DTSTART:20211107T060000
END:STANDARD
BEGIN:DAYLIGHT
TZOFFSETFROM:-0500
TZOFFSETTO:-0400
TZNAME:EDT
DTSTART:20220313T070000
END:DAYLIGHT
BEGIN:STANDARD
TZOFFSETFROM:-0400
TZOFFSETTO:-0500
TZNAME:EST
DTSTART:20221106T060000
END:STANDARD
BEGIN:DAYLIGHT
TZOFFSETFROM:-0500
TZOFFSETTO:-0400
TZNAME:EDT
DTSTART:20230312T070000
END:DAYLIGHT
BEGIN:STANDARD
TZOFFSETFROM:-0400
TZOFFSETTO:-0500
TZNAME:EST
DTSTART:20231105T060000
END:STANDARD
END:VTIMEZONE
BEGIN:VEVENT
DTSTART;TZID=America/New_York:20220422T200000
DTEND;TZID=America/New_York:20220422T200000
DTSTAMP:20260421T043401
CREATED:20220311T212058Z
LAST-MODIFIED:20220315T181048Z
UID:10000036-1650657600-1650657600@www.fliporley.com
SUMMARY:Comedy & Hypnotist: Flip Orley
DESCRIPTION:
URL:https://www.fliporley.com/event/comedy-hypnotist-flip-orley/
LOCATION:Revival Theater\, 213 W. Main St Suite 302 (3rd Floor City Center Building)\, Salisbury\, MD\, 21801\, United States
END:VEVENT
END:VCALENDAR