BEGIN:VCALENDAR
VERSION:2.0
PRODID:-//Flip Orley - ECPv6.15.20//NONSGML v1.0//EN
CALSCALE:GREGORIAN
METHOD:PUBLISH
X-ORIGINAL-URL:https://www.fliporley.com
X-WR-CALDESC:Events for Flip Orley
REFRESH-INTERVAL;VALUE=DURATION:PT1H
X-Robots-Tag:noindex
X-PUBLISHED-TTL:PT1H
BEGIN:VTIMEZONE
TZID:America/Chicago
BEGIN:DAYLIGHT
TZOFFSETFROM:-0600
TZOFFSETTO:-0500
TZNAME:CDT
DTSTART:20250309T080000
END:DAYLIGHT
BEGIN:STANDARD
TZOFFSETFROM:-0500
TZOFFSETTO:-0600
TZNAME:CST
DTSTART:20251102T070000
END:STANDARD
BEGIN:DAYLIGHT
TZOFFSETFROM:-0600
TZOFFSETTO:-0500
TZNAME:CDT
DTSTART:20260308T080000
END:DAYLIGHT
BEGIN:STANDARD
TZOFFSETFROM:-0500
TZOFFSETTO:-0600
TZNAME:CST
DTSTART:20261101T070000
END:STANDARD
BEGIN:DAYLIGHT
TZOFFSETFROM:-0600
TZOFFSETTO:-0500
TZNAME:CDT
DTSTART:20270314T080000
END:DAYLIGHT
BEGIN:STANDARD
TZOFFSETFROM:-0500
TZOFFSETTO:-0600
TZNAME:CST
DTSTART:20271107T070000
END:STANDARD
END:VTIMEZONE
BEGIN:VEVENT
DTSTART;TZID=America/Chicago:20260821T190000
DTEND;TZID=America/Chicago:20260821T210000
DTSTAMP:20260421T134514
CREATED:20260413T231434Z
LAST-MODIFIED:20260413T231519Z
UID:10000189-1787338800-1787346000@www.fliporley.com
SUMMARY:Flip Orley - Live at Mic Drop Comedy Club in Plano\, TX
DESCRIPTION:I’ve been doing shows in and around the Dallas / Ft Worth area for years\, and I’ve excited to announce this is my first time ever coming to Mic Drop Comedy Club in Plano. The shows in DFW have been so much fun over the years with wonderful audiences and amazing volunteers.\nI hope all my friends make it out to a show and look forward to meeting new people and making new friends.
URL:https://www.fliporley.com/event/flip-orley-live-at-mic-drop-comedy-club-in-plano-tx/
LOCATION:Mic Drop Comedy – Plano\, 7301 Lone Star Dr Suite A-110\, Plano\, TX\, 75024\, United States
END:VEVENT
BEGIN:VEVENT
DTSTART;TZID=America/Chicago:20260822T170000
DTEND;TZID=America/Chicago:20260822T190000
DTSTAMP:20260421T134514
CREATED:20260413T231612Z
LAST-MODIFIED:20260413T231635Z
UID:10000190-1787418000-1787425200@www.fliporley.com
SUMMARY:Flip Orley - Live at Mic Drop Comedy Club in Plano\, TX
DESCRIPTION:I’ve been doing shows in and around the Dallas / Ft Worth area for years\, and I’ve excited to announce this is my first time ever coming to Mic Drop Comedy Club in Plano. The shows in DFW have been so much fun over the years with wonderful audiences and amazing volunteers.\nI hope all my friends make it out to a show and look forward to meeting new people and making new friends.
URL:https://www.fliporley.com/event/flip-orley-live-at-mic-drop-comedy-club-in-plano-tx-2/
LOCATION:Mic Drop Comedy – Plano\, 7301 Lone Star Dr Suite A-110\, Plano\, TX\, 75024\, United States
END:VEVENT
BEGIN:VEVENT
DTSTART;TZID=America/Chicago:20260822T200000
DTEND;TZID=America/Chicago:20260822T220000
DTSTAMP:20260421T134514
CREATED:20260413T231717Z
LAST-MODIFIED:20260413T231717Z
UID:10000191-1787428800-1787436000@www.fliporley.com
SUMMARY:Flip Orley - Live at Mic Drop Comedy Club in Plano\, TX
DESCRIPTION:I’ve been doing shows in and around the Dallas / Ft Worth area for years\, and I’ve excited to announce this is my first time ever coming to Mic Drop Comedy Club in Plano. The shows in DFW have been so much fun over the years with wonderful audiences and amazing volunteers.\nI hope all my friends make it out to a show and look forward to meeting new people and making new friends.
URL:https://www.fliporley.com/event/flip-orley-live-at-mic-drop-comedy-club-in-plano-tx-3/
LOCATION:Mic Drop Comedy – Plano\, 7301 Lone Star Dr Suite A-110\, Plano\, TX\, 75024\, United States
END:VEVENT
END:VCALENDAR